{
 "currentVersion": 11.3,
 "serviceDescription": "T2019AerialsMosaic",
 "name": "Basemap_items/GIS_BGMU_Prod_GISADMIN_T2019AerialsMosaic_Clip",
 "description": "T2019AerialsMosaic",
 "extent": {
  "xmin": 4696236.449261696,
  "ymin": 3486882.6085506976,
  "xmax": 4744253.115481173,
  "ymax": 3536896.941418236,
  "spatialReference": {
   "wkid": 102763,
   "latestWkid": 3089
  }
 },
 "initialExtent": {
  "xmin": 4696236.449261696,
  "ymin": 3486882.6085506976,
  "xmax": 4744253.115481173,
  "ymax": 3536896.941418236,
  "spatialReference": {
   "wkid": 102763,
   "latestWkid": 3089
  }
 },
 "fullExtent": {
  "xmin": 4696236.449261696,
  "ymin": 3486882.6085506976,
  "xmax": 4744253.115481173,
  "ymax": 3536896.941418236,
  "spatialReference": {
   "wkid": 102763,
   "latestWkid": 3089
  }
 },
 "sortableFields": "",
 "bandCount": 3,
 "pixelType": "U8",
 "minValues": [
  0,
  0,
  0
 ],
 "maxValues": [
  255,
  255,
  255
 ],
 "meanValues": [
  130.88361289653585,
  117.85752063509862,
  90.34765926644076
 ],
 "stdvValues": [
  41.32627860288556,
  39.06220472168771,
  35.89616726701357
 ],
 "hasMultidimensions": false,
 "pixelSizeX": 0.33333333022892475,
 "pixelSizeY": 0.33333333022892475,
 "meanPixelSize": 0.10160020225418079,
 "datasetFormat": "SDR",
 "uncompressedSize": 64841082450,
 "blockWidth": 128,
 "blockHeight": 128,
 "compressionType": "LZ77",
 "bandNames": [
  "Band_1",
  "Band_2",
  "Band_3"
 ],
 "allowCopy": true,
 "allowAnalysis": true,
 "itemAccess": false,
 "inspectionCapabilities": "",
 "minPixelSize": 0,
 "maxPixelSize": 0,
 "copyrightText": "",
 "serviceDataType": "esriImageServiceDataTypeRGB",
 "serviceSourceType": "esriImageServiceSourceTypeDataset",
 "objectIdField": "",
 "fields": [],
 "capabilities": "Mensuration,Image,Metadata",
 "defaultMosaicMethod": "Center",
 "allowedMosaicMethods": "",
 "sortField": "",
 "sortValue": null,
 "sortAscending": true,
 "mosaicOperator": "First",
 "defaultCompressionQuality": 75,
 "defaultResamplingMethod": "Bilinear",
 "maxImageHeight": 4100,
 "maxImageWidth": 15000,
 "allowRasterFunction": true,
 "rasterFunctionInfos": [
  {
   "name": "None",
   "description": "",
   "help": ""
  }
 ],
 "rasterTypeInfos": [
  {
   "name": "Raster Dataset",
   "description": "Supports all ArcGIS Raster Datasets",
   "help": ""
  }
 ],
 "mensurationCapabilities": "Basic",
 "hasHistograms": true,
 "hasColormap": false,
 "hasRasterAttributeTable": false,
 "minScale": 0,
 "maxScale": 0,
 "exportTilesAllowed": false,
 "supportsStatistics": false,
 "supportsAdvancedQueries": false,
 "editFieldsInfo": null,
 "ownershipBasedAccessControlForRasters": null,
 "allowComputeTiePoints": false,
 "useStandardizedQueries": true,
 "advancedQueryCapabilities": {
  "useStandardizedQueries": true,
  "supportsStatistics": false,
  "supportsOrderBy": false,
  "supportsDistinct": false,
  "supportsPagination": false
 },
 "spatialReference": {
  "wkid": 102763,
  "latestWkid": 3089
 },
 "resampling": false
}
