View In:
ArcGIS JavaScript
ArcGIS Online map viewer
ArcGIS Earth
Service Description: T2019AerialsMosaic
Name: Basemap_items/GIS_BGMU_Prod_GISADMIN_T2019AerialsMosaic_Clip
Description: T2019AerialsMosaic
Single Fused Map Cache: false
Extent:
XMin: 4696236.449261696
YMin: 3486882.6085506976
XMax: 4744253.115481173
YMax: 3536896.941418236
Spatial Reference: 102763
(3089)
LatestVCSWkid(0)
Initial Extent:
XMin: 4696236.449261696
YMin: 3486882.6085506976
XMax: 4744253.115481173
YMax: 3536896.941418236
Spatial Reference: 102763
(3089)
LatestVCSWkid(0)
Full Extent:
XMin: 4696236.449261696
YMin: 3486882.6085506976
XMax: 4744253.115481173
YMax: 3536896.941418236
Spatial Reference: 102763
(3089)
LatestVCSWkid(0)
Pixel Size X: 0.33333333022892475
Pixel Size Y: 0.33333333022892475
Band Count: 3
Pixel Type: U8
RasterFunction Infos: {"rasterFunctionInfos": [{
"name": "None",
"description": "",
"help": ""
}]}
Mensuration Capabilities: Basic
Inspection Capabilities:
Has Histograms: true
Has Colormap: false
Has Multi Dimensions : false
Rendering Rule:
Min Scale: 0
Max Scale: 0
Resampling: false
Copyright Text:
Service Data Type: esriImageServiceDataTypeRGB
Min Values: 0, 0, 0
Max Values: 255, 255, 255
Mean Values: 130.88361289653585, 117.85752063509862, 90.34765926644076
Standard Deviation Values: 41.32627860288556, 39.06220472168771, 35.89616726701357
Object ID Field:
Fields:
None
Default Mosaic Method: Center
Allowed Mosaic Methods:
SortField:
SortValue: null
Mosaic Operator: First
Default Compression Quality: 75
Default Resampling Method: Bilinear
Max Record Count: null
Max Image Height: 4100
Max Image Width: 15000
Max Download Image Count: null
Max Mosaic Image Count: null
Allow Raster Function: true
Allow Copy: true
Allow Analysis: true
Allow Compute TiePoints: false
Supports Statistics: false
Supports Advanced Queries: false
Use StandardizedQueries: true
Raster Type Infos:
Name: Raster Dataset
Description: Supports all ArcGIS Raster Datasets
Help:
Has Raster Attribute Table: false
Edit Fields Info: null
Ownership Based AccessControl For Rasters: null
Child Resources:
Info
Histograms
Statistics
Key Properties
Legend
Raster Function Infos
Supported Operations:
Export Image
Identify
Measure
Compute Histograms
Compute Statistics Histograms
Get Samples
Compute Class Statistics
Query Boundary
Compute Pixel Location
Compute Angles
Validate
Project